BEGIN:VCALENDAR
VERSION:2.0
PRODID:-//ISA//EVENT 1.0//EN
METHOD:PUBLISH
BEGIN:VEVENT
SUMMARY:Castleblayney Show 2026
UID:4de64722701ab88b92f30260e373c753
SEQUENCE:0
DTSTART:20260803T090000
DTEND:20260803T200000
ORGANIZER;CN=Castleblayney Show:MAILTO:info@castleblayneyshow.ie
LOCATION:
DTSTAMP:20260423T231651
DESCRIPTION:
URL:https://www.castleblayneyshow.ie/events/castleblayney-show-2026
END:VEVENT
END:VCALENDAR